BEGIN:VCALENDAR
VERSION:2.0
PRODID:-//SOKY Alliance - ECPv6.15.17//NONSGML v1.0//EN
CALSCALE:GREGORIAN
METHOD:PUBLISH
X-WR-CALNAME:SOKY Alliance
X-ORIGINAL-URL:https://www.sokyalliance.org
X-WR-CALDESC:Events for SOKY Alliance
REFRESH-INTERVAL;VALUE=DURATION:PT1H
X-Robots-Tag:noindex
X-PUBLISHED-TTL:PT1H
BEGIN:VTIMEZONE
TZID:America/Chicago
BEGIN:DAYLIGHT
TZOFFSETFROM:-0600
TZOFFSETTO:-0500
TZNAME:CDT
DTSTART:20230312T080000
END:DAYLIGHT
BEGIN:STANDARD
TZOFFSETFROM:-0500
TZOFFSETTO:-0600
TZNAME:CST
DTSTART:20231105T070000
END:STANDARD
BEGIN:DAYLIGHT
TZOFFSETFROM:-0600
TZOFFSETTO:-0500
TZNAME:CDT
DTSTART:20240310T080000
END:DAYLIGHT
BEGIN:STANDARD
TZOFFSETFROM:-0500
TZOFFSETTO:-0600
TZNAME:CST
DTSTART:20241103T070000
END:STANDARD
BEGIN:DAYLIGHT
TZOFFSETFROM:-0600
TZOFFSETTO:-0500
TZNAME:CDT
DTSTART:20250309T080000
END:DAYLIGHT
BEGIN:STANDARD
TZOFFSETFROM:-0500
TZOFFSETTO:-0600
TZNAME:CST
DTSTART:20251102T070000
END:STANDARD
END:VTIMEZONE
BEGIN:VEVENT
DTSTART;TZID=America/Chicago:20241126T180000
DTEND;TZID=America/Chicago:20241126T200000
DTSTAMP:20260424T031855
CREATED:20241118T202943Z
LAST-MODIFIED:20241118T202943Z
UID:3867-1732644000-1732651200@www.sokyalliance.org
SUMMARY:BG TEEN - Ornament Making & Tree Decorating
DESCRIPTION:It’s become an annual tradition – Each year BG Teen makes some new ornaments to decorate our big rainbow tree. Come make some ornaments to decorate our tree and also to take home with you\, eat some food\, and have some fun together! \nBG Teen is a safe\, affirming space for LGBTQ+ middle and high schoolers and their friends and allies. \nAt BG Teen we always offer dinner\, and all programming is free to attend. No sign-ups required\, but there are sign-in sheets so we have emergency contact info and allergies on file. \nBG Teen meets in the basement at First Christian Church\, 1106 State St. (unless otherwise noted) but is not a faith-based group. Enter through the double glass doors on the back of the building facing Chestnut St.
URL:https://www.sokyalliance.org/event/bg-teen-ornament-making-tree-decorating/
LOCATION:First Christian Church\, 1106 State St\, Bowling Green\, KY\, 42101\, United States
ATTACH;FMTTYPE=image/png:https://www.sokyalliance.org/wp-content/uploads/2024/05/CC_Express_20220418_1427560.4220828179086573-768x768-1.png
END:VEVENT
END:VCALENDAR