BEGIN:VCALENDAR
VERSION:2.0
PRODID:-//SOKY Alliance - ECPv6.15.17//NONSGML v1.0//EN
CALSCALE:GREGORIAN
METHOD:PUBLISH
X-WR-CALNAME:SOKY Alliance
X-ORIGINAL-URL:https://www.sokyalliance.org
X-WR-CALDESC:Events for SOKY Alliance
REFRESH-INTERVAL;VALUE=DURATION:PT1H
X-Robots-Tag:noindex
X-PUBLISHED-TTL:PT1H
BEGIN:VTIMEZONE
TZID:America/Chicago
BEGIN:DAYLIGHT
TZOFFSETFROM:-0600
TZOFFSETTO:-0500
TZNAME:CDT
DTSTART:20240310T080000
END:DAYLIGHT
BEGIN:STANDARD
TZOFFSETFROM:-0500
TZOFFSETTO:-0600
TZNAME:CST
DTSTART:20241103T070000
END:STANDARD
BEGIN:DAYLIGHT
TZOFFSETFROM:-0600
TZOFFSETTO:-0500
TZNAME:CDT
DTSTART:20250309T080000
END:DAYLIGHT
BEGIN:STANDARD
TZOFFSETFROM:-0500
TZOFFSETTO:-0600
TZNAME:CST
DTSTART:20251102T070000
END:STANDARD
BEGIN:DAYLIGHT
TZOFFSETFROM:-0600
TZOFFSETTO:-0500
TZNAME:CDT
DTSTART:20260308T080000
END:DAYLIGHT
BEGIN:STANDARD
TZOFFSETFROM:-0500
TZOFFSETTO:-0600
TZNAME:CST
DTSTART:20261101T070000
END:STANDARD
END:VTIMEZONE
BEGIN:VEVENT
DTSTART;TZID=America/Chicago:20250318T180000
DTEND;TZID=America/Chicago:20250318T193000
DTSTAMP:20260419T232912
CREATED:20250226T153808Z
LAST-MODIFIED:20250226T153808Z
UID:3904-1742320800-1742326200@www.sokyalliance.org
SUMMARY:Support Group for Parents of LGBTQ+ Children
DESCRIPTION:This is a safe space for parents of LGBTQ+ children (of any age) to connect\, process\, and learn together. This group is offered in partnership with Ashley Vicari Counseling. \n6-7:30pm \nJan. 21 \nFeb. 4 & 18 \nMarch 4 & 18 \nApril 88 & 22 \n  \n1106 State St. Enter at the double glass doors on the back of the building facing Chestnut St.
URL:https://www.sokyalliance.org/event/support-group-for-parents-of-lgbtq-children-3/
LOCATION:First Christian Church\, 1106 State St\, Bowling Green\, KY\, 42101\, United States
ATTACH;FMTTYPE=image/jpeg:https://www.sokyalliance.org/wp-content/uploads/2025/01/Parent-Support-spring-25.jpg
END:VEVENT
END:VCALENDAR