BEGIN:VCALENDAR
VERSION:2.0
PRODID:-//SOKY Alliance - ECPv6.15.17//NONSGML v1.0//EN
CALSCALE:GREGORIAN
METHOD:PUBLISH
X-ORIGINAL-URL:https://www.sokyalliance.org
X-WR-CALDESC:Events for SOKY Alliance
REFRESH-INTERVAL;VALUE=DURATION:PT1H
X-Robots-Tag:noindex
X-PUBLISHED-TTL:PT1H
BEGIN:VTIMEZONE
TZID:America/Chicago
BEGIN:DAYLIGHT
TZOFFSETFROM:-0600
TZOFFSETTO:-0500
TZNAME:CDT
DTSTART:20230312T080000
END:DAYLIGHT
BEGIN:STANDARD
TZOFFSETFROM:-0500
TZOFFSETTO:-0600
TZNAME:CST
DTSTART:20231105T070000
END:STANDARD
BEGIN:DAYLIGHT
TZOFFSETFROM:-0600
TZOFFSETTO:-0500
TZNAME:CDT
DTSTART:20240310T080000
END:DAYLIGHT
BEGIN:STANDARD
TZOFFSETFROM:-0500
TZOFFSETTO:-0600
TZNAME:CST
DTSTART:20241103T070000
END:STANDARD
BEGIN:DAYLIGHT
TZOFFSETFROM:-0600
TZOFFSETTO:-0500
TZNAME:CDT
DTSTART:20250309T080000
END:DAYLIGHT
BEGIN:STANDARD
TZOFFSETFROM:-0500
TZOFFSETTO:-0600
TZNAME:CST
DTSTART:20251102T070000
END:STANDARD
END:VTIMEZONE
BEGIN:VEVENT
DTSTART;TZID=America/Chicago:20241210T180000
DTEND;TZID=America/Chicago:20241210T200000
DTSTAMP:20260420T054039
CREATED:20241118T215147Z
LAST-MODIFIED:20241118T215147Z
UID:3869-1733853600-1733860800@www.sokyalliance.org
SUMMARY:BG TEEN - Holiday Party
DESCRIPTION:The tree is decorated\, and it’s our last meetup of 2024. Come eat some food and have some fun! We’ll also do a gift exchange game – bring a wrapped gift (value $5 or under\, can be bought or handmade) if you’d like to participate. \nBG Teen is a safe\, affirming space for LGBTQ+ middle and high schoolers and their friends and allies. \nAt BG Teen we always offer dinner\, and all programming is free to attend. No sign-ups required\, but there are sign-in sheets so we have emergency contact info and allergies on file. \nBG Teen meets in the basement at First Christian Church\, 1106 State St. (unless otherwise noted) but is not a faith-based group. Enter through the double glass doors on the back of the building facing Chestnut St.
URL:https://www.sokyalliance.org/event/bg-teen-holiday-party/
LOCATION:First Christian Church\, 1106 State St\, Bowling Green\, KY\, 42101\, United States
ATTACH;FMTTYPE=image/png:https://www.sokyalliance.org/wp-content/uploads/2024/05/CC_Express_20220418_1427560.4220828179086573-768x768-1.png
END:VEVENT
BEGIN:VEVENT
DTSTART;TZID=America/Chicago:20241217T180000
DTEND;TZID=America/Chicago:20241217T193000
DTSTAMP:20260420T054039
CREATED:20240919T160851Z
LAST-MODIFIED:20241213T184852Z
UID:3832-1734458400-1734463800@www.sokyalliance.org
SUMMARY:Parent Support Group
DESCRIPTION:In partnership with Ashley Vicari Counseling\, we are starting a parent support group for parents of LGBTQ+ children (of any age). This will be facilitated by intern\, Ren\, and is a safe space for processing\, support\, community\, and education. It will be held from 6-7:30pm the first and third Tuesdays of the month at the Higgins Center for Nonprofits at 958 Collett Ave.
URL:https://www.sokyalliance.org/event/parent-support-group/
LOCATION:The Higgins Center\, 958 Collett Avenue\, Bowling Green\, KY\, 42101\, United States
ATTACH;FMTTYPE=image/jpeg:https://www.sokyalliance.org/wp-content/uploads/2024/09/Screen-Shot-2024-09-19-at-11.07.59-AM.jpg
END:VEVENT
BEGIN:VEVENT
DTSTART;TZID=America/Chicago:20241220T180000
DTEND;TZID=America/Chicago:20241220T210000
DTSTAMP:20260420T054039
CREATED:20241213T184719Z
LAST-MODIFIED:20241213T184719Z
UID:3872-1734717600-1734728400@www.sokyalliance.org
SUMMARY:18+ Drop-In Night
DESCRIPTION:We’re hosting a drop-in night for the adults! This time of year can be a lot\, so come hang out\, relax and connect – complete with TV\, craft supplies\, games\, and snacks. \nThis is a safe\, affirming and sober space. Come anytime from 6-9pm\, 1106 State St. Enter through the double glass doors on the back of the building facing Chestnut St.
URL:https://www.sokyalliance.org/event/18-drop-in-night/
LOCATION:First Christian Church\, 1106 State St\, Bowling Green\, KY\, 42101\, United States
ATTACH;FMTTYPE=image/jpeg:https://www.sokyalliance.org/wp-content/uploads/2024/12/Drop-In-Night.jpg
END:VEVENT
END:VCALENDAR