BEGIN:VCALENDAR
VERSION:2.0
PRODID:-//SOKY Alliance - ECPv6.15.17//NONSGML v1.0//EN
CALSCALE:GREGORIAN
METHOD:PUBLISH
X-WR-CALNAME:SOKY Alliance
X-ORIGINAL-URL:https://www.sokyalliance.org
X-WR-CALDESC:Events for SOKY Alliance
REFRESH-INTERVAL;VALUE=DURATION:PT1H
X-Robots-Tag:noindex
X-PUBLISHED-TTL:PT1H
BEGIN:VTIMEZONE
TZID:America/Chicago
BEGIN:DAYLIGHT
TZOFFSETFROM:-0600
TZOFFSETTO:-0500
TZNAME:CDT
DTSTART:20240310T080000
END:DAYLIGHT
BEGIN:STANDARD
TZOFFSETFROM:-0500
TZOFFSETTO:-0600
TZNAME:CST
DTSTART:20241103T070000
END:STANDARD
BEGIN:DAYLIGHT
TZOFFSETFROM:-0600
TZOFFSETTO:-0500
TZNAME:CDT
DTSTART:20250309T080000
END:DAYLIGHT
BEGIN:STANDARD
TZOFFSETFROM:-0500
TZOFFSETTO:-0600
TZNAME:CST
DTSTART:20251102T070000
END:STANDARD
BEGIN:DAYLIGHT
TZOFFSETFROM:-0600
TZOFFSETTO:-0500
TZNAME:CDT
DTSTART:20260308T080000
END:DAYLIGHT
BEGIN:STANDARD
TZOFFSETFROM:-0500
TZOFFSETTO:-0600
TZNAME:CST
DTSTART:20261101T070000
END:STANDARD
END:VTIMEZONE
BEGIN:VEVENT
DTSTART;TZID=America/Chicago:20250601T113000
DTEND;TZID=America/Chicago:20250601T150000
DTSTAMP:20260419T142318
CREATED:20250528T142146Z
LAST-MODIFIED:20250528T142146Z
UID:3919-1748777400-1748790000@www.sokyalliance.org
SUMMARY:Pride Month Brunch
DESCRIPTION:Let’s kick off Pride Month with brunch at White Squirrel! We’ll be there starting at 11:30am. Brunch and drinks for purchase from White Squirrel and its food vendors. We’ll have some free Pride swag for you! Come hang out!
URL:https://www.sokyalliance.org/event/pride-month-brunch/
LOCATION:White Squirrel Brewery\, 302 State St.\, Bowling Green\, KY\, 42101\, United States
ATTACH;FMTTYPE=image/jpeg:https://www.sokyalliance.org/wp-content/uploads/2025/05/Untitled-1-1.jpg
END:VEVENT
BEGIN:VEVENT
DTSTART;TZID=America/Chicago:20250607T170000
DTEND;TZID=America/Chicago:20250607T210000
DTSTAMP:20260419T142318
CREATED:20250528T142346Z
LAST-MODIFIED:20250528T142346Z
UID:3923-1749315600-1749330000@www.sokyalliance.org
SUMMARY:Pride Month Double Feature
DESCRIPTION:We’re having a movie night! Come to The Capitol BG on June 7 to enjoy a free Pride Month double feature.\n5pm – Rated R 2023 film “Bottoms”\n7pm – Rated R 1998 film “But I’m a Cheerleader”\nCheck out https://capitolbg.org/events/ for movie descriptions!
URL:https://www.sokyalliance.org/event/pride-month-double-feature/
LOCATION:The Capitol\, 416 E. Main Ave.\, Bowling Green\, KY\, 42101\, United States
ATTACH;FMTTYPE=image/jpeg:https://www.sokyalliance.org/wp-content/uploads/2025/05/SOKY-Alliance-Movie-Night-11x17-1.jpg
END:VEVENT
BEGIN:VEVENT
DTSTART;TZID=America/Chicago:20250615T180000
DTEND;TZID=America/Chicago:20250615T200000
DTSTAMP:20260419T142318
CREATED:20250528T142631Z
LAST-MODIFIED:20250528T142631Z
UID:3929-1750010400-1750017600@www.sokyalliance.org
SUMMARY:Nashville in Harmony Concert
DESCRIPTION:We are beyond excited to bring Nashville in Harmony for a free Pride Month concert at 6pm June 15 at First Christian Church. Plus\, they will be performing a song by our very own leadership chair Dr. Matt Herman!\n\nFrom Wesley King\, Artistic Director of Nashville in Harmony: (NIH). NIH is a 130-voice LGBTQ and Ally chorus from Nashville\, TN. We are taking 100 of those 130 voices and our concert on the road this June\, and would love to invite you to join us!\nThe concert will be held at First Christian Church in Bowling Green\, KY (1106 State St. Bowling Green\, KY 42101) at 6pm on Sunday\, June 15th. It’ll last about an hour and half. Admission is free but donations are welcomed. We are a 501c3 nonprofit and donations are tax deductible.\n\nOur concert is titled Songs for a New South. This concert is a reclamation of what we believe “southern values” to be. To us\, southern values are: diversity\, inclusion\, hope\, resiliency\, mercy\, and love. All of our music this season is written by Southern composers and highlights marginalized voices.
URL:https://www.sokyalliance.org/event/nashville-in-harmony-concert/
LOCATION:First Christian Church\, 1106 State St\, Bowling Green\, KY\, 42101\, United States
ATTACH;FMTTYPE=image/jpeg:https://www.sokyalliance.org/wp-content/uploads/2025/05/8.5x11-NiH-SongsforaNewSouth.jpg
END:VEVENT
BEGIN:VEVENT
DTSTART;TZID=America/Chicago:20250621T110000
DTEND;TZID=America/Chicago:20250621T130000
DTSTAMP:20260419T142318
CREATED:20250528T142448Z
LAST-MODIFIED:20250613T183120Z
UID:3926-1750503600-1750510800@www.sokyalliance.org
SUMMARY:Pride Picnic - RESCHEDULED FOR JUNE 21
DESCRIPTION:We’re having our 2nd annual Pride Month Picnic from 11am to 1pm Saturday\, June 21 at Reservoir Hill Park!Our picnic is an old-fashioned\, back-to-basics\, neighborhood celebration of queer joy! Sandwiches\, chips and drinks\, music and yard games will be provided. Bring your own chairs/blankets\, other food and drinks or activities and come be in community together!
URL:https://www.sokyalliance.org/event/pride-picnic/
LOCATION:Reservoir Hill Park\, 900 E. Main Ave.\, Bowling Green\, KY\, 42101\, United States
ATTACH;FMTTYPE=image/png:https://www.sokyalliance.org/wp-content/uploads/2025/05/Untitled-7.png
END:VEVENT
BEGIN:VEVENT
DTSTART;TZID=America/Chicago:20250628T180000
DTEND;TZID=America/Chicago:20250628T190000
DTSTAMP:20260419T142318
CREATED:20250528T142737Z
LAST-MODIFIED:20250528T142737Z
UID:3932-1751133600-1751137200@www.sokyalliance.org
SUMMARY:Pride Month Worship Service
DESCRIPTION:It’s the third annual Pride Month Worship Service at First Christian Church\, and this year’s theme is Renewed.\nFCC was a founding sponsor of Bowling Green’s annual Pride festival and has been a primary sponsor ever since. It hosted the first ever Pride worship service in Bowling Green\, houses and serves as fiscal sponsor for us\, SOKY Alliance\, has on-going LGBTQ+ specific small groups\, and has had countless LQBTQ+ folks as leaders in the life of the church.\nWe are so excited to continue this collaboration\, with Desmond Anthony preaching\, and continue the work of having open\, welcoming\, brave and affirming spaces.
URL:https://www.sokyalliance.org/event/pride-month-worship-service/
LOCATION:First Christian Church\, 1106 State St\, Bowling Green\, KY\, 42101\, United States
ATTACH;FMTTYPE=image/jpeg:https://www.sokyalliance.org/wp-content/uploads/2025/05/495790629_23916504391286948_1883073322406028676_n.jpg
END:VEVENT
END:VCALENDAR