BEGIN:VCALENDAR
VERSION:2.0
PRODID:-//SOKY Alliance - ECPv6.15.17//NONSGML v1.0//EN
CALSCALE:GREGORIAN
METHOD:PUBLISH
X-ORIGINAL-URL:https://www.sokyalliance.org
X-WR-CALDESC:Events for SOKY Alliance
REFRESH-INTERVAL;VALUE=DURATION:PT1H
X-Robots-Tag:noindex
X-PUBLISHED-TTL:PT1H
BEGIN:VTIMEZONE
TZID:America/Chicago
BEGIN:DAYLIGHT
TZOFFSETFROM:-0600
TZOFFSETTO:-0500
TZNAME:CDT
DTSTART:20240310T080000
END:DAYLIGHT
BEGIN:STANDARD
TZOFFSETFROM:-0500
TZOFFSETTO:-0600
TZNAME:CST
DTSTART:20241103T070000
END:STANDARD
BEGIN:DAYLIGHT
TZOFFSETFROM:-0600
TZOFFSETTO:-0500
TZNAME:CDT
DTSTART:20250309T080000
END:DAYLIGHT
BEGIN:STANDARD
TZOFFSETFROM:-0500
TZOFFSETTO:-0600
TZNAME:CST
DTSTART:20251102T070000
END:STANDARD
BEGIN:DAYLIGHT
TZOFFSETFROM:-0600
TZOFFSETTO:-0500
TZNAME:CDT
DTSTART:20260308T080000
END:DAYLIGHT
BEGIN:STANDARD
TZOFFSETFROM:-0500
TZOFFSETTO:-0600
TZNAME:CST
DTSTART:20261101T070000
END:STANDARD
END:VTIMEZONE
BEGIN:VEVENT
DTSTART;TZID=America/Chicago:20250712T093000
DTEND;TZID=America/Chicago:20250712T120000
DTSTAMP:20260419T124713
CREATED:20250709T135726Z
LAST-MODIFIED:20250709T135726Z
UID:3941-1752312600-1752321600@www.sokyalliance.org
SUMMARY:Mural Project with Artist Andee Rudloff
DESCRIPTION:We are honored to announce that we’ve received a “Supporting LGBTQ+ Youth Through the Creative Arts” grant through CenterLink: The Community of LGBT Centers\, MTV Entertainment Studios and RuPaul’s Drag Race. We’ll be putting that grant to use with a mural project!\n\n\n\nCome out for a little while or a long while between 9:30am and 12 noon on Saturday\, July 12 at First Christian Church\, 1106 State St.\, to help paint a new mural. No special skills needed. Come ready to get messy. Water and fun also provided.\n\n\n\nWhile this work of art will be a demonstration of support and empowerment for our LGBTQ+ youth\, it is also an opportunity to engage their creativity in the process alongside a supportive community. Everyone is invited to come help paint!\n\n\n\nHuge thanks to our dear friend and local artist Artist Andee Rudloff for leading this project! We are incredibly grateful and excited!
URL:https://www.sokyalliance.org/event/mural-project-with-artist-andee-rudloff/
LOCATION:First Christian Church\, 1106 State St\, Bowling Green\, KY\, 42101\, United States
ATTACH;FMTTYPE=image/jpeg:https://www.sokyalliance.org/wp-content/uploads/2025/07/Mural-post.jpg
END:VEVENT
END:VCALENDAR